BEGIN:VCALENDAR
VERSION:2.0
PRODID:-//Brainfit World - ECPv6.15.17.1//NONSGML v1.0//EN
CALSCALE:GREGORIAN
METHOD:PUBLISH
X-ORIGINAL-URL:https://www.brainfit.world
X-WR-CALDESC:Events for Brainfit World
REFRESH-INTERVAL;VALUE=DURATION:PT1H
X-Robots-Tag:noindex
X-PUBLISHED-TTL:PT1H
BEGIN:VTIMEZONE
TZID:Pacific/Auckland
BEGIN:STANDARD
TZOFFSETFROM:+1300
TZOFFSETTO:+1200
TZNAME:NZST
DTSTART:20240406T140000
END:STANDARD
BEGIN:DAYLIGHT
TZOFFSETFROM:+1200
TZOFFSETTO:+1300
TZNAME:NZDT
DTSTART:20240928T140000
END:DAYLIGHT
BEGIN:STANDARD
TZOFFSETFROM:+1300
TZOFFSETTO:+1200
TZNAME:NZST
DTSTART:20250405T140000
END:STANDARD
BEGIN:DAYLIGHT
TZOFFSETFROM:+1200
TZOFFSETTO:+1300
TZNAME:NZDT
DTSTART:20250927T140000
END:DAYLIGHT
BEGIN:STANDARD
TZOFFSETFROM:+1300
TZOFFSETTO:+1200
TZNAME:NZST
DTSTART:20260404T140000
END:STANDARD
BEGIN:DAYLIGHT
TZOFFSETFROM:+1200
TZOFFSETTO:+1300
TZNAME:NZDT
DTSTART:20260926T140000
END:DAYLIGHT
END:VTIMEZONE
BEGIN:VEVENT
DTSTART;TZID=Pacific/Auckland:20250828T103000
DTEND;TZID=Pacific/Auckland:20250828T120000
DTSTAMP:20260422T113920
CREATED:20250623T022746Z
LAST-MODIFIED:20250623T024036Z
UID:23013-1756377000-1756382400@www.brainfit.world
SUMMARY:Brainfit For Life - Mt Eden | 28 Aug - 18 Sept\, 2025 | Thursday mornings
DESCRIPTION:Boost your Brain Health & Memory with our Mt Eden Brainfit for Life® Class in Auckland\nJoin our renowned Brainfit For Life Class today! \nIf improving your brain health\, memory\, and overall cognitive function is a top New Year’s resolution for 2025\, then our Mt Eden Brainfit for Life® Class is perfect for you. Led by Accredited Brainfit Coach Jude Walter\, these innovative\, face-to-face sessions are designed to teach you six key memory skills that help you stay confident\, independent\, and productive – no matter your age. \nEvent Details\n\nDuration: One 90-minute session per week for four weeks\nStart Date: Tuesday mornings\, beginning 28 August 2025  (28 Aug\, 4 Sept\, 11 Sept & 18 Sept)\nLocation: Mt Eden Village Centre\, 449 Mt Eden Rd\, Mt Eden\, Auckland\nCost: $250 per person for the complete 4-class course\n\nOur Brainfit Classes are tailored for adults aged 26 to 96 and are proven to boost brain health and memory. Whether you’re seeking to sharpen your mind or enhance your daily performance\, our course delivers practical memory improvement techniques in a supportive and interactive setting. \nEnroll Today & Receive a FREE Brainfit book worth $40!\nTo secure your spot in this Brainfit For Life class in Mt Eden or to ask any questions\, please contact Jude Walter directly on: \n\nPhone: 027 2863961\nEmail: jude@brainfit.nz\n\nInvest in your brain health today – join our Mt Eden Brainfit for Life® class and experience the benefits of enhanced memory and cognitive performance! \n\nWhy Choose Our Brain Health & Memory Class?\n\nExpert Coaching: Benefit from the guidance of Jude Walter\, a trusted and accredited brain fitness expert with over 8 years Brainfit experience.\nInteractive Sessions: Enjoy a dynamic mix of listening\, watching\, and doing that makes learning engaging and effective.\nProven Success: Join a growing community that has experienced transformative improvements in memory and cognitive skills.\n\n\nWhat Participants Are Saying\n\nThis was the best course I have ever done. I didn’t want the classes to end!  – John\, Auckland \n\n\nYou are an amazing presenter\, Jude – really inspirational. You balance listening\, watching\, doing\, and moving so well that time flies while we learn practical\, useful content. I felt completely supported throughout. – Faye\, Auckland \n\n\nFantastic information paired with great ideas and examples that really work – I would highly recommend this class. – Julie\, Auckland \n\n\nIt was great to have the cobwebs dusted off my brain. Now I know exactly what I need to do to take action. – Annette\, Auckland
URL:https://www.brainfit.world/class/mt-eden-28-aug-2025-thursday/
LOCATION:Mt Eden Village Centre\, 449 Mt Eden Rd\, Auckland\, Auckland\, 1024\, New Zealand
CATEGORIES:Auckland,Epsom,Mt Eden
ORGANIZER;CN="Jude Walter":MAILTO:jude@brainfit.nz
END:VEVENT
END:VCALENDAR