BEGIN:VCALENDAR
VERSION:2.0
PRODID:-//Brainfit World - ECPv6.15.17.1//NONSGML v1.0//EN
CALSCALE:GREGORIAN
METHOD:PUBLISH
X-WR-CALNAME:Brainfit World
X-ORIGINAL-URL:https://www.brainfit.world
X-WR-CALDESC:Events for Brainfit World
REFRESH-INTERVAL;VALUE=DURATION:PT1H
X-Robots-Tag:noindex
X-PUBLISHED-TTL:PT1H
BEGIN:VTIMEZONE
TZID:Pacific/Auckland
BEGIN:STANDARD
TZOFFSETFROM:+1300
TZOFFSETTO:+1200
TZNAME:NZST
DTSTART:20210403T140000
END:STANDARD
BEGIN:DAYLIGHT
TZOFFSETFROM:+1200
TZOFFSETTO:+1300
TZNAME:NZDT
DTSTART:20210925T140000
END:DAYLIGHT
BEGIN:STANDARD
TZOFFSETFROM:+1300
TZOFFSETTO:+1200
TZNAME:NZST
DTSTART:20220402T140000
END:STANDARD
BEGIN:DAYLIGHT
TZOFFSETFROM:+1200
TZOFFSETTO:+1300
TZNAME:NZDT
DTSTART:20220924T140000
END:DAYLIGHT
BEGIN:STANDARD
TZOFFSETFROM:+1300
TZOFFSETTO:+1200
TZNAME:NZST
DTSTART:20230401T140000
END:STANDARD
BEGIN:DAYLIGHT
TZOFFSETFROM:+1200
TZOFFSETTO:+1300
TZNAME:NZDT
DTSTART:20230923T140000
END:DAYLIGHT
BEGIN:STANDARD
TZOFFSETFROM:+1300
TZOFFSETTO:+1200
TZNAME:NZST
DTSTART:20240406T140000
END:STANDARD
BEGIN:DAYLIGHT
TZOFFSETFROM:+1200
TZOFFSETTO:+1300
TZNAME:NZDT
DTSTART:20240928T140000
END:DAYLIGHT
END:VTIMEZONE
BEGIN:VEVENT
DTSTART;TZID=Pacific/Auckland:20231019T123000
DTEND;TZID=Pacific/Auckland:20231019T140000
DTSTAMP:20260422T012815
CREATED:20211107T221853Z
LAST-MODIFIED:20220921T085616Z
UID:17520-1697718600-1697724000@www.brainfit.world
SUMMARY:Remuera | 19 Oct – 9 Nov\, 2023 | Thursday afternoons
DESCRIPTION:Jude’s last class for 2023.\nDon’t wait until it’s too late – Give your brain a weekly workout while learning some practical\, fun new strategies that will give you increased confidence and self-belief regarding your memory. \nJoin our Remuera Brainfit for Life® class with Accredited Brainfit® Coach Jude Walter on Thursday afternoons\, starting 19 October. \nOne 90-minute session per week for four weeks with a focus on 6 key memory skills that allow people to remain confident\, independent and productive throughout their lives. These face to face\, facilitated classes will be held in Remuera Baptist Church Lounge\, 641 Remuera Road\, Auckland 1071. The cost is $220 per person for the 4 classes. \nTo secure your place today or ask any questions please contact Jude directly on 027 2863961 or jude@brainfit.nz \nSome feedback from Jude’s classes: \n\n“Hugely informative and you never made me feel useless or stupid. Thank you\, thank you\, thank you” – Jan\, Auckland\n“A most enjoyable and enlightening course – I would thoroughly recommend it.” – Barry\, Auckland\n“A very pivotal course for me. Lots of fun and I plan to do it again later as a refresh” – Loraine\, Auckland
URL:https://www.brainfit.world/class/remuera-19-oct-9-nov-2023-thursday-afternoons/
LOCATION:Remuera Baptist Church\, 641 Remuera Road\, Auckland\, 1071\, New Zealand
CATEGORIES:Auckland,Remuera
ORGANIZER;CN="Jude Walter":MAILTO:jude@brainfit.nz
END:VEVENT
BEGIN:VEVENT
DTSTART;TZID=Pacific/Auckland:20221103T123000
DTEND;TZID=Pacific/Auckland:20221103T140000
DTSTAMP:20260422T012815
CREATED:20220921T085354Z
LAST-MODIFIED:20220926T220153Z
UID:18882-1667478600-1667484000@www.brainfit.world
SUMMARY:Remuera | 3 Nov – 24 Nov\, 2022 | Thursday afternoons  (CLASS FULL)
DESCRIPTION:Jude’s last class for 2022.\nDon’t wait until it’s too late – Give your brain a weekly workout while learning some practical\, fun new strategies that will give you increased confidence and self-belief regarding your memory. \nJoin our Remuera Brainfit for Life® class with Accredited Brainfit® Coach Jude Walter on Thursday afternoons\, starting 3 November. \nOne 90-minute session per week for four weeks with a focus on 6 key memory skills that allow people to remain confident\, independent and productive throughout their lives. These face to face\, facilitated classes will be held in Remuera Baptist Church Lounge\, 641 Remuera Road\, Auckland 1071. The cost is $210 per person for the 4 classes. \nTo secure your place today or ask any questions please contact Jude directly on 027 2863961 or jude@brainfit.nz \nSome feedback from Jude’s classes: \n\n“Everyone over 40 years could benefit from this without a doubt! “ – Gaye\, Auckland\n“I was so glad to be given tools and positive help\, so I don’t have to stress about it so much. Thank you” – Ann\, Auckland\n“It woke me up to the possibilities of helping my brain. You certainly didn’t make it boring AND made me knuckle down and do it so Thank You” – Sue\, Auckland
URL:https://www.brainfit.world/class/remuera-3-nov-24-nov-2022-thursday-afternoons-copy/
LOCATION:Remuera Baptist Church\, 641 Remuera Road\, Auckland\, 1071\, New Zealand
CATEGORIES:Auckland,Remuera
ORGANIZER;CN="Jude Walter":MAILTO:jude@brainfit.nz
END:VEVENT
BEGIN:VEVENT
DTSTART;TZID=Pacific/Auckland:20220610T100000
DTEND;TZID=Pacific/Auckland:20220610T113000
DTSTAMP:20260422T012815
CREATED:20220921T084027Z
LAST-MODIFIED:20220921T090233Z
UID:18873-1654855200-1654860600@www.brainfit.world
SUMMARY:Remuera | 10 June – 8 July\, 2022 | Friday mornings  CLASS FULL
DESCRIPTION:Experience increased confidence and self-belief regarding your memory and take away a range of simple\, practical strategies you can use to live a brain-healthy lifestyle every day with Brainfit \nJoin our Remuera Brainfit for Life® class with Accredited Brainfit® Coach Jude Walter on Friday mornings\, starting 10th June. \nOne 90 minute session per week for four weeks with a focus on 6 key memory skills that allow people to remain confident\, independent and productive throughout their lives. These face to face\, facilitated classes will be held at Remuera Baptist Church Lounge\, 641 Remuera Road\, Auckland 1071. The cost is $210 per person for the 4 classes. \nTo enrol in this class or ask any questions please contact Jude directly on 027 2863961 or jude@brainfit.nz \nSome feedback from Jude’s classes: \n\n“Hugely informative and you never made me feel useless or stupid. Thank you\, thank you\, thank you” – Jan\, Auckland\n“A most enjoyable and enlightening course – I would thoroughly recommend it.” – Barry\, Auckland\n“A very pivotal course for me. Lots of fun and I plan to do it again later as a refresh” – Loraine\, Auckland
URL:https://www.brainfit.world/class/remuera-10-june-8-july-2022-friday-mornings-copy/
LOCATION:Remuera Baptist Church\, 641 Remuera Road\, Auckland\, 1071\, New Zealand
CATEGORIES:Auckland,Remuera
ORGANIZER;CN="Jude Walter":MAILTO:jude@brainfit.nz
END:VEVENT
END:VCALENDAR