BEGIN:VCALENDAR
VERSION:2.0
PRODID:-//Brainfit World - ECPv6.15.17.1//NONSGML v1.0//EN
CALSCALE:GREGORIAN
METHOD:PUBLISH
X-WR-CALNAME:Brainfit World
X-ORIGINAL-URL:https://www.brainfit.world
X-WR-CALDESC:Events for Brainfit World
REFRESH-INTERVAL;VALUE=DURATION:PT1H
X-Robots-Tag:noindex
X-PUBLISHED-TTL:PT1H
BEGIN:VTIMEZONE
TZID:Pacific/Auckland
BEGIN:STANDARD
TZOFFSETFROM:+1300
TZOFFSETTO:+1200
TZNAME:NZST
DTSTART:20200404T140000
END:STANDARD
BEGIN:DAYLIGHT
TZOFFSETFROM:+1200
TZOFFSETTO:+1300
TZNAME:NZDT
DTSTART:20200926T140000
END:DAYLIGHT
BEGIN:STANDARD
TZOFFSETFROM:+1300
TZOFFSETTO:+1200
TZNAME:NZST
DTSTART:20210403T140000
END:STANDARD
BEGIN:DAYLIGHT
TZOFFSETFROM:+1200
TZOFFSETTO:+1300
TZNAME:NZDT
DTSTART:20210925T140000
END:DAYLIGHT
BEGIN:STANDARD
TZOFFSETFROM:+1300
TZOFFSETTO:+1200
TZNAME:NZST
DTSTART:20220402T140000
END:STANDARD
BEGIN:DAYLIGHT
TZOFFSETFROM:+1200
TZOFFSETTO:+1300
TZNAME:NZDT
DTSTART:20220924T140000
END:DAYLIGHT
END:VTIMEZONE
BEGIN:VEVENT
DTSTART;TZID=Pacific/Auckland:20210804T100000
DTEND;TZID=Pacific/Auckland:20210804T113000
DTSTAMP:20260420T074558
CREATED:20201109T024130Z
LAST-MODIFIED:20210602T224914Z
UID:3333-1628071200-1628076600@www.brainfit.world
SUMMARY:Mt Eden | 4 August – 25 August\, 2021 | Wednesday mornings
DESCRIPTION:If improving your brain health and memory is still on your ‘To Do’ list for 2021\, join our Mt Eden Brainfit for Life® class with Accredited Brainfit Coach Jude Walter on Wednesday mornings\, starting 4 August. \nOne 90-minute session per week for four weeks with a focus on 6 key memory skills that allow people to remain confident\, independent and productive regardless of age. These face to face\, facilitated classes have helped numerous Kiwis aged 26-96 years and will be held at the Mt Eden Village Centre\, 449 Mt Eden Rd\, Mt Eden\, Auckland 1024. The cost is $204 per person for the 4 classes. \nTo enrol in this class or ask any questions please contact Jude directly on 027 2863961 or jude@brainfit.nz \nSome feedback from Jude’s classes: \n\n“I was so glad to be given tools and positive help\, so I don’t have to stress about it so much. Thank you” – Ann\, Auckland\n“Super stimulating and full of easy\, practical techniques I can use every day. A great learning experience for body & mind.” – Keith\, Auckland\n“Jude was a fun and interesting teacher. I loved her energy and nurturing style” – Anne\, Auckland
URL:https://www.brainfit.world/class/mt-eden-4-august-25-august-2021-wednesday-mornings/
LOCATION:Mt Eden Village Centre\, 449 Mt Eden Rd\, Auckland\, Auckland\, 1024\, New Zealand
CATEGORIES:Auckland
ORGANIZER;CN="Jude Walter":MAILTO:jude@brainfit.nz
END:VEVENT
BEGIN:VEVENT
DTSTART;TZID=Pacific/Auckland:20210805T103000
DTEND;TZID=Pacific/Auckland:20210805T121500
DTSTAMP:20260420T074558
CREATED:20210710T041819Z
LAST-MODIFIED:20210710T042456Z
UID:16920-1628159400-1628165700@www.brainfit.world
SUMMARY:Papamoa | 5 August - 26 August\, 2021 | Thursday mornings 10.30 am - 12.15 pm
DESCRIPTION:Papamoa Brainfit® for Life \nExperience increased confidence and self-belief regarding your memory and take away a range of simple\, practical strategies you can use to live a brain-healthy lifestyle every day with Brainfit \nJoin our Papamoa Brainfit® for Life class with Accredited Brainfit Coach Sanel van der Merwe on Thursday mornings\, starting 5 August. \nOne 90 minute session per week for four weeks with a focus on 6 key memory skills that allow people to remain confident\, independent and productive throughout their lives. \nThese face to face\, facilitated classes will be held at The Papamoa Library Building\, Community Room\, (There will be signs up to guide you). \n  \nWhat do Sanél’s class members say?\n\n\n\n\n\n“Brilliant presenter! Sanél explains very well\, well paced presentation. Such good knowledge and a great teacher”\n– Cherie\n\n\n“Friendly with a sense of humour\, knowledgeable and encouraging”\n– Stephen\n\n\n\n\n\n\n\n\n\n\nWant to know more?\n\nUnderstand how memory works for you\nGain confidence through knowing how to apply the important strategies\nBecome aware of the many ways you can use your new skills.\nGain some new friends in the group and with your Accredited Brainfit® Coach\nIf you have any questions\, please contact Sanél on:\n\nEmail: sanel@brainfit.nz\nMobile: 027 725 5195\n\n\n\n\n\n 
URL:https://www.brainfit.world/class/papamoa-5-aug-26-aug-2021-thursday-mornings/
LOCATION:Papamoa Library Building Aihe Community Room\, 15 Gravatt Road\, Papamoa Beach\, 3118\, New Zealand
CATEGORIES:Papamoa
ORGANIZER;CN="San%C3%A9l van der Merwe":MAILTO:sanel@brainfit.nz
END:VEVENT
END:VCALENDAR